BEGIN:VCALENDAR
VERSION:2.0
METHOD:PUBLISH
BEGIN:VEVENT
UID:WILD_APRICOT_EVENT_1882184_SESSION_1
DTSTART:20150325T053000Z
DTEND:20150325T073000Z
SUMMARY:Professional Learning for Teachers of Japanese and Indonesian
LOCATION:Catholic Education Office - 116 George Street\, Thebarton
DESCRIPTION:https://registrationcentre.cesa.catholic.edu.au/event-1882184\n\n    Professional Learning for Teachers of Japanese and Indonesian\n  The Language Learning Space\n \n Last Day to Register: Friday 20 March 2015\n    This professional learning will focus on the latest resources available for teaching and learning of Japanese and Indonesian\, particularly for upper primary and secondary students. In this session you will learn about and commence accessing:\n      * hundreds of newly developed teaching resources\, aligned with the Australian Curriculum\, as well as the capacity to create learning pathways for individuals and classes\n\n        * innovative game-based challenges that enable students to practise key languages skills and explore the cultures of each country\n\n        * in country based tutors who run regular language sessions with students at no charge\n\n        * comprehensive professional learning on a range of topics relevant to all languages\n\n        * languages apps to reinforce vocabulary through game play\n\n  WORKSHOP INFORMATION:\n \n When:         Wednesday 25 March 2015 - 4.00pm - 6.00pm       \n  Location:   Catholic Education Office - 116 George Street\, Thebarton\n                         Boardroom and Room 2\n  Note: Please bring your own electronic device to benefit most from this workshop\n\n  AITSL AUSTRALIAN PROFESSIONAL STANDARDS FOR TEACHERS INCLUDE:\n Standard 2.    Know the content and how to teach it\n Standard 3.    Plan for and implement effective teaching and learning\n Standard 6.    Engage in professional learning and improve practice\n     Cost: No workshop fee\n   \n  For further information regarding this opportunity\,\n please contact:\n\n  Dr Anne Spencer\n  anne.spencer@cesa.catholic.edu.au\n   8301 6655\n\n  For further information regarding registration:\nChris Virgin\n chris.virgin@cesa.catholic.edu.au\n8301 6851\n   \n   \n   \n                         
DTSTAMP:20260424T160333Z
END:VEVENT
END:VCALENDAR
