BEGIN:VCALENDAR
VERSION:2.0
METHOD:PUBLISH
BEGIN:VEVENT
UID:WILD_APRICOT_EVENT_1867115_SESSION_1
DTSTART:20150430T233000Z
DTEND:20150501T063000Z
SUMMARY:Australian Curriculum: Languages - Learning Design\, Scoping the Learning\, Pedagogies and Assessment Practices
LOCATION:Flinders University - City Campus (Crnr of Flinders St and Victoria Sq)
DESCRIPTION:https://registrationcentre.cesa.catholic.edu.au/event-1867115\n\n    Australian Curriculum: Languages - Learning Design\, Scoping the Learning\, Pedagogies and Assessment Practices\n \n Last Day to Register: Wednesday 08 April 2015\n    This Professional Learning opportunity will focus on the practices that teachers of languages and cultures will need to be familiar with in preparation for the implementation of the Australian Curriculum for Languages. This will be the main professional learning opportunity offered to teachers of languages and cultures in 2015.\n  Associate Professor Angela Scarino and Ludgero Rego will work together in offering this professional learning opportunity for teachers of languages in CESA schools.\n  COURSE INFORMATION:\n When:         Day 1 - Friday 01 May 2015\n                        Day 2 - Friday 19 June 2015\n                        Day 3 - Monday 17 August 2015\n                        Day 4 - Monday 26 October 2015\n  Location:     Flinders University - City Campus (Crnr of Flinders St and Victoria Sq)\n                          \n  AITSL AUSTRALIAN PROFESSIONAL STANDARDS FOR TEACHERS INCLUDE:\n Standard 2.    Know the content and how to teach it\n Standard 3.    Plan for and implement effective teaching and learning\n Standard 6.    Engage in professional learning and improve practice\n  PROGRAM OUTLINE:\nTeacher commitment:\n - 4 days of centrally delivered professional learning (in terms 2\,3 and 4\, 2015)\n- 3 days of personal classroom research\n \n For more information please click on flyer\n  TRT: Teachers must attend the four days of centrally delivered learning and will be able to claim up to 7 days TRT in total - which may include up to three days of personal research / inquiry / peer observations / support / reciprocal school visits.\n  Cost: no workshop fee\n  Catering: will be provided\n   \n  For further information regarding this opportunity\,\n please contact:\n\n Ludgero Rego - Languages Consultant\n ludgero.rego@cesa.catholic.edu.au\n 8301 6839\n\n  For further information regarding registration:\nChris Virgin\n chris.virgin@cesa.catholic.edu.au\n8301 6851\n   \n   \n   \n
DTSTAMP:20260424T154449Z
END:VEVENT
END:VCALENDAR
