BEGIN:VCALENDAR
VERSION:2.0
METHOD:PUBLISH
BEGIN:VEVENT
UID:WILD_APRICOT_EVENT_1846474_SESSION_1
DTSTART:20150315T223000Z
DTEND:20150316T050000Z
SUMMARY:F-10 Australian Curriculum: Professional Networking Day
LOCATION:Glenelg Golf Club\, James Melrose Road\, Novar Gardens
DESCRIPTION:https://registrationcentre.cesa.catholic.edu.au/event-1846474\n\nF-10 Australian Curriculum: Professional Networking Day\n  'Reconsidering assessment\; How can we do things differently to enhance learning in our school?' with Dan Haesler\n  COURSE DESCRIPTION\n  This workshop\, facilitated by Dan Haesler\, is designed to support curriculum leaders in the implementation of the Australian Curriculum with a focus on challenging and motivated learning\, assessment and engagement.\n  Dan Haesler is an International keynote speaker\, teacher\, writer and consultant. Described as engaging\, thought provoking and someone who pushes the boundaries\; Dan has presented as a conference keynote alongside some of the world's most well known educational thinkers including Sir Ken Robinson\, Sugata Mitra and Stephen Heppell. As well as speaking around Australia\, Dan works with a diverse range of people and organisations and his work has been featured on  Channel 10 and the ABC. He also writes regularly for Fairfax Media's education pages as well as The Australian Teacher Magazine.\n  COURSE INFORMATION\n  Monday 16th March\, 2015\n Glenelg Golf Club\n James Melrose Road\,\n Novar Gardens\n \n Morning tea and Lunch will be provided\n  CORE FOCI AND PRIORITIES\n      *             Exploring assessment with a focus on challenging and  motivated learning.           \n\n        *             Considering the following definition of engagement and its impact on our work in schools: The sense of living a life high on interest\, curiosity and absorption. Engaged individuals pursue goals with determination and vitality.        \n\n  AITSL AUSTRALIAN PROFESSIONAL STANDARDS FOR TEACHERS INCLUDE\n  2.3 Curriculum\, assessment and reporting\n  3.2 Plan\, structure and sequence learning programs\n  6.4 Apply professional learning and improve student learning\n  INTENDED FOR:\n  Curriculum leaders with a responsibility for implementation of the Australian Curriculum F-10\n  PROGRAM OUTLINE\n  1 day\n  9:00 am - 3:30pm\n  FACILITATOR\n  Marianne Farrugia\, CESA Australian Curriculum Consultant\n  SYSTEM ACCREDITED MODULE:No\n  REGISTRATION CLOSED: Friday 6th March\, 9.00am \n  For further information regarding registration:\n  Ria Wong\n  ria.wong@cesa.catholic.edu.au\n   \n                
DTSTAMP:20260424T160241Z
END:VEVENT
END:VCALENDAR
