BEGIN:VCALENDAR
VERSION:2.0
METHOD:PUBLISH
BEGIN:VEVENT
UID:WILD_APRICOT_EVENT_1806151_SESSION_1
DTSTART:20150306T050000Z
DTEND:20150522T073000Z
SUMMARY:AUSTRALIAN CURRICULUM: TECHNOLOGIES
LOCATION:Professional Learning Space
DESCRIPTION:https://registrationcentre.cesa.catholic.edu.au/event-1806151\n\nAUSTRALIAN CURRICULUM: TECHNOLOGIES  COURSE DESCRIPTION\n  This course will focus on the Technologies Curriculum which draws together the distinct but related subjects of Design and Technologies and Digital Technologies.\n  The Technologies curriculum aims to provide students with opportunities to learn about and work with traditional\, contemporary and emerging technologies that shape the world in which we live\n  COURSE INFORMATION\n  Participants will develop opportunities to design learning opportunities for either the Design and Technologies or Digital Technologies.\n  Participants will explore an integrated approach to curriculum to encourage students to recognize the connections between Technologies and other learning areas.\n                            Session\n                        Session Date\n                        Session Time\n                        Venue\n                                  Session 1\n                    6th    March                 3.30 – 5.00\n                        Catholic Education Office\n         Professional Learning Space\n         112 Kintore Street\n         Thebarton\n                                  Session 2\n                        22nd    May\n\n                        3.30 – 5.00\n                   \n  CORE FOCI AND PRIORITIES\n   \n  ·        Australian Curriculum: Technologies  \n  AITSL NATIONAL PROFESSIONAL STANDARDS FOR TEACHERS INCLUDE\n  Standard 2:Know the content and how to teach it (2.6)\n  Standard 3: Plan for and implement effective teaching and learning (3.4)\n  \n INTENDED FOR:\n  R-6 teachers interested in exploring the Design and Technologies and Digital Technologies: curriculum.\n   \n  PROGRAM OUTLINE\n  Participants will develop learning opportunities that integrate Design & Technology or Digital Technologies from the Australian Curriculum.\n Participants will plan learning opportunities using the overarching ideas from the curriculum – and map these using the indicative times provided to writers.\n  \n Total time: 3 hours\n  \n FACILITATOR: Learning & Technologies Team\n Anne De Nicolo                         anne.denicolo@cesa.catholic.edu.au  \n SYSTEM ACCREDITED MODULE:  NO\n    CONTACT DETAILS\n  Registration inquiries: Binaya.poudyal@cesa.catholic.edu.au \n   \n      
DTSTAMP:20260424T155932Z
END:VEVENT
END:VCALENDAR
