BEGIN:VCALENDAR
VERSION:2.0
METHOD:PUBLISH
BEGIN:VEVENT
UID:WILD_APRICOT_EVENT_1713537_SESSION_1
DTSTART:20140821T233000Z
DTEND:20140822T060000Z
SUMMARY:F-10 Australian Curriculum: Health and PE
LOCATION:Glenelg Golf Club
DESCRIPTION:https://registrationcentre.cesa.catholic.edu.au/event-1713537\n\nF-10 Australian Curriculum: Health and PE\n  22 August\n     COURSE DESCRIPTION\n  This Workshop is designed to support curriculum leaders in the implementation of the Australian Curriculum: Health and PE\n  COURSE INFORMATION\n  Date :  Friday\, 22 August 2014\n Venue: Glenelg Golf Club\, James Melrose Road\, Novar Gardens\n  Bring your own device\n Morning tea and Lunch will be provided\n  CORE FOCI AND PRIORITIES\n  An opportunity to become familiar with Australian Curriculum: Health and PE through:\n      *             exploring the strengths-based approach of the curriculum which supports students to develop the knowledge\, understanding and skills they require to make healthy\, safe and active choices that will enhance their own and other's health and wellbeing.        \n\n        *             exploring the content structure including strands and sub strands\, achievement standards and the focus areas:        \n\n                    Alcohol and other drugs        Active play and minor games                   Food and nutrition        Challenge and adventure activities                   Health benefits of physical activity        Fundamental movement skills                   Mental health and well being        Games and sports                   Relationships and sexuality        Lifelong physical activities                   Safety        Rhythmic and expressive activities                 *             exploring planning and assessment with the curriculum        \n\n        *             exploring the links to other programs in Catholic Education SA        \n\n  AITSL AUSTRALIAN PROFESSIONAL STANDARDS FOR TEACHERS INCLUDE:\n  2.3 Curriculum\, assessment and reporting\n  3.2 Plan\, structure and sequence learning programs\n  6.4 Apply professional learning and improve student learning\n  INTENDED FOR:\n  Curriculum leaders and key teachers with a responsibility for implementation of the Australian Curriculum F-10: Health and PE\n  PROGRAM OUTLINE:\n  1 day 9am - 3.30pm\n  FACILITATOR:\n  Janice Atkin\, Senior Project Officer\, Health and PE\, ACARA\n  Marianne Farrugia\, CESA Australian Curriculum Consultant\, Marianne.farrugia@cesa.catholic.edu.au\n   \n  CLOSING DATE: Friday\, 15 August (4.00pm)\n      \n  For further information regarding registration:\n Ria Wong\n ria.wong@cesa.catholic.edu.au\n 8301 6618\n
DTSTAMP:20260424T154406Z
END:VEVENT
END:VCALENDAR
